{"text_format":"1","workbook":"xlsx","n_sheets":3,"sheets":["Obtain constants","Obtain Comp. Strength","Calculations"],"not_rendered":{"charts":0,"images":3,"macros":1,"external_links":0,"defined_names":0,"comments":0,"pivot_tables":0},"unopened":[],"bounds":{"document_bytes":16777216,"sheet_cells":100000,"rows_first":2000,"rows_last":500,"rows_between":2000,"halvings":0,"cell_chars":16384,"cell_head_chars":4096},"cells_cut":0,"cells_raw":0,"read":"whole","date_system":"1900"}

{"sheet":"Obtain constants","index":0,"n_rows":33,"n_cols":5,"rows_kept":33,"cut":false,"hidden":false,"merged":[[0,0,0,8],[4,4,5,4],[4,3,5,3],[4,2,5,2]]}
["Determination of SONREB curve coefficients\nv.1.04"]
[]
[null,null,"TABLE 1: Raw Data for the Sonreb Method"]
[]
[null,null,"Compressive Strength fck (MPa or PSI)","Pundit Lab+ \nUltrasonic Pulse Velocity (V) (m/s or ft/s)","Silver-/Original Schmidt  \nRebound-Values (S)"]
[]
[null,"Sample 1"]
[null,"Sample 2"]
[null,"Sample 3"]
[null,"Sample 4"]
[null,"Sample 5"]
[null,"Sample 6"]
[null,"Sample 7"]
[null,"Sample 8"]
[null,"Sample 9"]
[null,"Sample 10"]
[null,"Sample 11"]
[null,"Sample 12"]
[null,"Sample 13"]
[null,"Sample 14"]
[null,"Sample 15"]
[null,"Sample 16"]
[null,"Sample 17"]
[null,"Sample 18"]
[null,"Sample 19"]
[null,"Sample 20"]
[]
[]
[]
[null,"Constant a",{"$f":"EXP(Calculations!K6)","v":{"$error":"#VALUE!"}}]
[null,"Constant b",{"$f":"Calculations!J6","v":{"$error":"#VALUE!"}}]
[null,"Constant c",{"$f":"Calculations!I6","v":{"$error":"#VALUE!"}}]
[null,"R-Square Value",{"$f":"Calculations!I8","v":{"$error":"#VALUE!"}}]

{"sheet":"Obtain Comp. Strength","index":1,"n_rows":105,"n_cols":4,"rows_kept":105,"cut":false,"hidden":false,"merged":[[107,0,107,5],[3,1,4,1],[3,2,4,2],[3,3,4,3],[0,0,0,5]]}
["                                                      Determination of Compressive Strength"]
[]
[null,"TABLE 2: Compressive Strength"]
[null,"Compressive Strength\nfck","Pundit Lab+ \nUltrasonic Pulse Velocity\n (V)","Silver-/Original Schmidt  \nRebound-Values (S)"]
[]
["Data Point 1",{"$f":"IF(OR(C6=\"\",D6=\"\"),\"\",(C6^'Obtain constants'!$C$31)*(D6^'Obtain constants'!$C$32)*('Obtain constants'!$C$30))","v":""}]
["Data Point 2",{"$f":"IF(OR(C7=\"\",D7=\"\"),\"\",(C7^'Obtain constants'!$C$31)*(D7^'Obtain constants'!$C$32)*('Obtain constants'!$C$30))","v":""}]
["Data Point 3",{"$f":"IF(OR(C8=\"\",D8=\"\"),\"\",(C8^'Obtain constants'!$C$31)*(D8^'Obtain constants'!$C$32)*('Obtain constants'!$C$30))","v":""}]
["Data Point 4",{"$f":"IF(OR(C9=\"\",D9=\"\"),\"\",(C9^'Obtain constants'!$C$31)*(D9^'Obtain constants'!$C$32)*('Obtain constants'!$C$30))","v":""}]
["Data Point 5",{"$f":"IF(OR(C10=\"\",D10=\"\"),\"\",(C10^'Obtain constants'!$C$31)*(D10^'Obtain constants'!$C$32)*('Obtain constants'!$C$30))","v":""}]
["Data Point 6",{"$f":"IF(OR(C11=\"\",D11=\"\"),\"\",(C11^'Obtain constants'!$C$31)*(D11^'Obtain constants'!$C$32)*('Obtain constants'!$C$30))","v":""}]
["Data Point 7",{"$f":"IF(OR(C12=\"\",D12=\"\"),\"\",(C12^'Obtain constants'!$C$31)*(D12^'Obtain constants'!$C$32)*('Obtain constants'!$C$30))","v":""}]
["Data Point 8",{"$f":"IF(OR(C13=\"\",D13=\"\"),\"\",(C13^'Obtain constants'!$C$31)*(D13^'Obtain constants'!$C$32)*('Obtain constants'!$C$30))","v":""}]
["Data Point 9",{"$f":"IF(OR(C14=\"\",D14=\"\"),\"\",(C14^'Obtain constants'!$C$31)*(D14^'Obtain constants'!$C$32)*('Obtain constants'!$C$30))","v":""}]
["Data Point 10",{"$f":"IF(OR(C15=\"\",D15=\"\"),\"\",(C15^'Obtain constants'!$C$31)*(D15^'Obtain constants'!$C$32)*('Obtain constants'!$C$30))","v":""}]
["Data Point 11",{"$f":"IF(OR(C16=\"\",D16=\"\"),\"\",(C16^'Obtain constants'!$C$31)*(D16^'Obtain constants'!$C$32)*('Obtain constants'!$C$30))","v":""}]
["Data Point 12",{"$f":"IF(OR(C17=\"\",D17=\"\"),\"\",(C17^'Obtain constants'!$C$31)*(D17^'Obtain constants'!$C$32)*('Obtain constants'!$C$30))","v":""}]
["Data Point 13",{"$f":"IF(OR(C18=\"\",D18=\"\"),\"\",(C18^'Obtain constants'!$C$31)*(D18^'Obtain constants'!$C$32)*('Obtain constants'!$C$30))","v":""}]
["Data Point 14",{"$f":"IF(OR(C19=\"\",D19=\"\"),\"\",(C19^'Obtain constants'!$C$31)*(D19^'Obtain constants'!$C$32)*('Obtain constants'!$C$30))","v":""}]
["Data Point 15",{"$f":"IF(OR(C20=\"\",D20=\"\"),\"\",(C20^'Obtain constants'!$C$31)*(D20^'Obtain constants'!$C$32)*('Obtain constants'!$C$30))","v":""}]
["Data Point 16",{"$f":"IF(OR(C21=\"\",D21=\"\"),\"\",(C21^'Obtain constants'!$C$31)*(D21^'Obtain constants'!$C$32)*('Obtain constants'!$C$30))","v":""}]
["Data Point 17",{"$f":"IF(OR(C22=\"\",D22=\"\"),\"\",(C22^'Obtain constants'!$C$31)*(D22^'Obtain constants'!$C$32)*('Obtain constants'!$C$30))","v":""}]
["Data Point 18",{"$f":"IF(OR(C23=\"\",D23=\"\"),\"\",(C23^'Obtain constants'!$C$31)*(D23^'Obtain constants'!$C$32)*('Obtain constants'!$C$30))","v":""}]
["Data Point 19",{"$f":"IF(OR(C24=\"\",D24=\"\"),\"\",(C24^'Obtain constants'!$C$31)*(D24^'Obtain constants'!$C$32)*('Obtain constants'!$C$30))","v":""}]
["Data Point 20",{"$f":"IF(OR(C25=\"\",D25=\"\"),\"\",(C25^'Obtain constants'!$C$31)*(D25^'Obtain constants'!$C$32)*('Obtain constants'!$C$30))","v":""}]
["Data Point 21",{"$f":"IF(OR(C26=\"\",D26=\"\"),\"\",(C26^'Obtain constants'!$C$31)*(D26^'Obtain constants'!$C$32)*('Obtain constants'!$C$30))","v":""}]
["Data Point 22",{"$f":"IF(OR(C27=\"\",D27=\"\"),\"\",(C27^'Obtain constants'!$C$31)*(D27^'Obtain constants'!$C$32)*('Obtain constants'!$C$30))","v":""}]
["Data Point 23",{"$f":"IF(OR(C28=\"\",D28=\"\"),\"\",(C28^'Obtain constants'!$C$31)*(D28^'Obtain constants'!$C$32)*('Obtain constants'!$C$30))","v":""}]
["Data Point 24",{"$f":"IF(OR(C29=\"\",D29=\"\"),\"\",(C29^'Obtain constants'!$C$31)*(D29^'Obtain constants'!$C$32)*('Obtain constants'!$C$30))","v":""}]
["Data Point 25",{"$f":"IF(OR(C30=\"\",D30=\"\"),\"\",(C30^'Obtain constants'!$C$31)*(D30^'Obtain constants'!$C$32)*('Obtain constants'!$C$30))","v":""}]
["Data Point 26",{"$f":"IF(OR(C31=\"\",D31=\"\"),\"\",(C31^'Obtain constants'!$C$31)*(D31^'Obtain constants'!$C$32)*('Obtain constants'!$C$30))","v":""}]
["Data Point 27",{"$f":"IF(OR(C32=\"\",D32=\"\"),\"\",(C32^'Obtain constants'!$C$31)*(D32^'Obtain constants'!$C$32)*('Obtain constants'!$C$30))","v":""}]
["Data Point 28",{"$f":"IF(OR(C33=\"\",D33=\"\"),\"\",(C33^'Obtain constants'!$C$31)*(D33^'Obtain constants'!$C$32)*('Obtain constants'!$C$30))","v":""}]
["Data Point 29",{"$f":"IF(OR(C34=\"\",D34=\"\"),\"\",(C34^'Obtain constants'!$C$31)*(D34^'Obtain constants'!$C$32)*('Obtain constants'!$C$30))","v":""}]
["Data Point 30",{"$f":"IF(OR(C35=\"\",D35=\"\"),\"\",(C35^'Obtain constants'!$C$31)*(D35^'Obtain constants'!$C$32)*('Obtain constants'!$C$30))","v":""}]
["Data Point 31",{"$f":"IF(OR(C36=\"\",D36=\"\"),\"\",(C36^'Obtain constants'!$C$31)*(D36^'Obtain constants'!$C$32)*('Obtain constants'!$C$30))","v":""}]
["Data Point 32",{"$f":"IF(OR(C37=\"\",D37=\"\"),\"\",(C37^'Obtain constants'!$C$31)*(D37^'Obtain constants'!$C$32)*('Obtain constants'!$C$30))","v":""}]
["Data Point 33",{"$f":"IF(OR(C38=\"\",D38=\"\"),\"\",(C38^'Obtain constants'!$C$31)*(D38^'Obtain constants'!$C$32)*('Obtain constants'!$C$30))","v":""}]
["Data Point 34",{"$f":"IF(OR(C39=\"\",D39=\"\"),\"\",(C39^'Obtain constants'!$C$31)*(D39^'Obtain constants'!$C$32)*('Obtain constants'!$C$30))","v":""}]
["Data Point 35",{"$f":"IF(OR(C40=\"\",D40=\"\"),\"\",(C40^'Obtain constants'!$C$31)*(D40^'Obtain constants'!$C$32)*('Obtain constants'!$C$30))","v":""}]
["Data Point 36",{"$f":"IF(OR(C41=\"\",D41=\"\"),\"\",(C41^'Obtain constants'!$C$31)*(D41^'Obtain constants'!$C$32)*('Obtain constants'!$C$30))","v":""}]
["Data Point 37",{"$f":"IF(OR(C42=\"\",D42=\"\"),\"\",(C42^'Obtain constants'!$C$31)*(D42^'Obtain constants'!$C$32)*('Obtain constants'!$C$30))","v":""}]
["Data Point 38",{"$f":"IF(OR(C43=\"\",D43=\"\"),\"\",(C43^'Obtain constants'!$C$31)*(D43^'Obtain constants'!$C$32)*('Obtain constants'!$C$30))","v":""}]
["Data Point 39",{"$f":"IF(OR(C44=\"\",D44=\"\"),\"\",(C44^'Obtain constants'!$C$31)*(D44^'Obtain constants'!$C$32)*('Obtain constants'!$C$30))","v":""}]
["Data Point 40",{"$f":"IF(OR(C45=\"\",D45=\"\"),\"\",(C45^'Obtain constants'!$C$31)*(D45^'Obtain constants'!$C$32)*('Obtain constants'!$C$30))","v":""}]
["Data Point 41",{"$f":"IF(OR(C46=\"\",D46=\"\"),\"\",(C46^'Obtain constants'!$C$31)*(D46^'Obtain constants'!$C$32)*('Obtain constants'!$C$30))","v":""}]
["Data Point 42",{"$f":"IF(OR(C47=\"\",D47=\"\"),\"\",(C47^'Obtain constants'!$C$31)*(D47^'Obtain constants'!$C$32)*('Obtain constants'!$C$30))","v":""}]
["Data Point 43",{"$f":"IF(OR(C48=\"\",D48=\"\"),\"\",(C48^'Obtain constants'!$C$31)*(D48^'Obtain constants'!$C$32)*('Obtain constants'!$C$30))","v":""}]
["Data Point 44",{"$f":"IF(OR(C49=\"\",D49=\"\"),\"\",(C49^'Obtain constants'!$C$31)*(D49^'Obtain constants'!$C$32)*('Obtain constants'!$C$30))","v":""}]
["Data Point 45",{"$f":"IF(OR(C50=\"\",D50=\"\"),\"\",(C50^'Obtain constants'!$C$31)*(D50^'Obtain constants'!$C$32)*('Obtain constants'!$C$30))","v":""}]
["Data Point 46",{"$f":"IF(OR(C51=\"\",D51=\"\"),\"\",(C51^'Obtain constants'!$C$31)*(D51^'Obtain constants'!$C$32)*('Obtain constants'!$C$30))","v":""}]
["Data Point 47",{"$f":"IF(OR(C52=\"\",D52=\"\"),\"\",(C52^'Obtain constants'!$C$31)*(D52^'Obtain constants'!$C$32)*('Obtain constants'!$C$30))","v":""}]
["Data Point 48",{"$f":"IF(OR(C53=\"\",D53=\"\"),\"\",(C53^'Obtain constants'!$C$31)*(D53^'Obtain constants'!$C$32)*('Obtain constants'!$C$30))","v":""}]
["Data Point 49",{"$f":"IF(OR(C54=\"\",D54=\"\"),\"\",(C54^'Obtain constants'!$C$31)*(D54^'Obtain constants'!$C$32)*('Obtain constants'!$C$30))","v":""}]
["Data Point 50",{"$f":"IF(OR(C55=\"\",D55=\"\"),\"\",(C55^'Obtain constants'!$C$31)*(D55^'Obtain constants'!$C$32)*('Obtain constants'!$C$30))","v":""}]
["Data Point 51",{"$f":"IF(OR(C56=\"\",D56=\"\"),\"\",(C56^'Obtain constants'!$C$31)*(D56^'Obtain constants'!$C$32)*('Obtain constants'!$C$30))","v":""}]
["Data Point 52",{"$f":"IF(OR(C57=\"\",D57=\"\"),\"\",(C57^'Obtain constants'!$C$31)*(D57^'Obtain constants'!$C$32)*('Obtain constants'!$C$30))","v":""}]
["Data Point 53",{"$f":"IF(OR(C58=\"\",D58=\"\"),\"\",(C58^'Obtain constants'!$C$31)*(D58^'Obtain constants'!$C$32)*('Obtain constants'!$C$30))","v":""}]
["Data Point 54",{"$f":"IF(OR(C59=\"\",D59=\"\"),\"\",(C59^'Obtain constants'!$C$31)*(D59^'Obtain constants'!$C$32)*('Obtain constants'!$C$30))","v":""}]
["Data Point 55",{"$f":"IF(OR(C60=\"\",D60=\"\"),\"\",(C60^'Obtain constants'!$C$31)*(D60^'Obtain constants'!$C$32)*('Obtain constants'!$C$30))","v":""}]
["Data Point 56",{"$f":"IF(OR(C61=\"\",D61=\"\"),\"\",(C61^'Obtain constants'!$C$31)*(D61^'Obtain constants'!$C$32)*('Obtain constants'!$C$30))","v":""}]
["Data Point 57",{"$f":"IF(OR(C62=\"\",D62=\"\"),\"\",(C62^'Obtain constants'!$C$31)*(D62^'Obtain constants'!$C$32)*('Obtain constants'!$C$30))","v":""}]
["Data Point 58",{"$f":"IF(OR(C63=\"\",D63=\"\"),\"\",(C63^'Obtain constants'!$C$31)*(D63^'Obtain constants'!$C$32)*('Obtain constants'!$C$30))","v":""}]
["Data Point 59",{"$f":"IF(OR(C64=\"\",D64=\"\"),\"\",(C64^'Obtain constants'!$C$31)*(D64^'Obtain constants'!$C$32)*('Obtain constants'!$C$30))","v":""}]
["Data Point 60",{"$f":"IF(OR(C65=\"\",D65=\"\"),\"\",(C65^'Obtain constants'!$C$31)*(D65^'Obtain constants'!$C$32)*('Obtain constants'!$C$30))","v":""}]
["Data Point 61",{"$f":"IF(OR(C66=\"\",D66=\"\"),\"\",(C66^'Obtain constants'!$C$31)*(D66^'Obtain constants'!$C$32)*('Obtain constants'!$C$30))","v":""}]
["Data Point 62",{"$f":"IF(OR(C67=\"\",D67=\"\"),\"\",(C67^'Obtain constants'!$C$31)*(D67^'Obtain constants'!$C$32)*('Obtain constants'!$C$30))","v":""}]
["Data Point 63",{"$f":"IF(OR(C68=\"\",D68=\"\"),\"\",(C68^'Obtain constants'!$C$31)*(D68^'Obtain constants'!$C$32)*('Obtain constants'!$C$30))","v":""}]
["Data Point 64",{"$f":"IF(OR(C69=\"\",D69=\"\"),\"\",(C69^'Obtain constants'!$C$31)*(D69^'Obtain constants'!$C$32)*('Obtain constants'!$C$30))","v":""}]
["Data Point 65",{"$f":"IF(OR(C70=\"\",D70=\"\"),\"\",(C70^'Obtain constants'!$C$31)*(D70^'Obtain constants'!$C$32)*('Obtain constants'!$C$30))","v":""}]
["Data Point 66",{"$f":"IF(OR(C71=\"\",D71=\"\"),\"\",(C71^'Obtain constants'!$C$31)*(D71^'Obtain constants'!$C$32)*('Obtain constants'!$C$30))","v":""}]
["Data Point 67",{"$f":"IF(OR(C72=\"\",D72=\"\"),\"\",(C72^'Obtain constants'!$C$31)*(D72^'Obtain constants'!$C$32)*('Obtain constants'!$C$30))","v":""}]
["Data Point 68",{"$f":"IF(OR(C73=\"\",D73=\"\"),\"\",(C73^'Obtain constants'!$C$31)*(D73^'Obtain constants'!$C$32)*('Obtain constants'!$C$30))","v":""}]
["Data Point 69",{"$f":"IF(OR(C74=\"\",D74=\"\"),\"\",(C74^'Obtain constants'!$C$31)*(D74^'Obtain constants'!$C$32)*('Obtain constants'!$C$30))","v":""}]
["Data Point 70",{"$f":"IF(OR(C75=\"\",D75=\"\"),\"\",(C75^'Obtain constants'!$C$31)*(D75^'Obtain constants'!$C$32)*('Obtain constants'!$C$30))","v":""}]
["Data Point 71",{"$f":"IF(OR(C76=\"\",D76=\"\"),\"\",(C76^'Obtain constants'!$C$31)*(D76^'Obtain constants'!$C$32)*('Obtain constants'!$C$30))","v":""}]
["Data Point 72",{"$f":"IF(OR(C77=\"\",D77=\"\"),\"\",(C77^'Obtain constants'!$C$31)*(D77^'Obtain constants'!$C$32)*('Obtain constants'!$C$30))","v":""}]
["Data Point 73",{"$f":"IF(OR(C78=\"\",D78=\"\"),\"\",(C78^'Obtain constants'!$C$31)*(D78^'Obtain constants'!$C$32)*('Obtain constants'!$C$30))","v":""}]
["Data Point 74",{"$f":"IF(OR(C79=\"\",D79=\"\"),\"\",(C79^'Obtain constants'!$C$31)*(D79^'Obtain constants'!$C$32)*('Obtain constants'!$C$30))","v":""}]
["Data Point 75",{"$f":"IF(OR(C80=\"\",D80=\"\"),\"\",(C80^'Obtain constants'!$C$31)*(D80^'Obtain constants'!$C$32)*('Obtain constants'!$C$30))","v":""}]
["Data Point 76",{"$f":"IF(OR(C81=\"\",D81=\"\"),\"\",(C81^'Obtain constants'!$C$31)*(D81^'Obtain constants'!$C$32)*('Obtain constants'!$C$30))","v":""}]
["Data Point 77",{"$f":"IF(OR(C82=\"\",D82=\"\"),\"\",(C82^'Obtain constants'!$C$31)*(D82^'Obtain constants'!$C$32)*('Obtain constants'!$C$30))","v":""}]
["Data Point 78",{"$f":"IF(OR(C83=\"\",D83=\"\"),\"\",(C83^'Obtain constants'!$C$31)*(D83^'Obtain constants'!$C$32)*('Obtain constants'!$C$30))","v":""}]
["Data Point 79",{"$f":"IF(OR(C84=\"\",D84=\"\"),\"\",(C84^'Obtain constants'!$C$31)*(D84^'Obtain constants'!$C$32)*('Obtain constants'!$C$30))","v":""}]
["Data Point 80",{"$f":"IF(OR(C85=\"\",D85=\"\"),\"\",(C85^'Obtain constants'!$C$31)*(D85^'Obtain constants'!$C$32)*('Obtain constants'!$C$30))","v":""}]
["Data Point 81",{"$f":"IF(OR(C86=\"\",D86=\"\"),\"\",(C86^'Obtain constants'!$C$31)*(D86^'Obtain constants'!$C$32)*('Obtain constants'!$C$30))","v":""}]
["Data Point 82",{"$f":"IF(OR(C87=\"\",D87=\"\"),\"\",(C87^'Obtain constants'!$C$31)*(D87^'Obtain constants'!$C$32)*('Obtain constants'!$C$30))","v":""}]
["Data Point 83",{"$f":"IF(OR(C88=\"\",D88=\"\"),\"\",(C88^'Obtain constants'!$C$31)*(D88^'Obtain constants'!$C$32)*('Obtain constants'!$C$30))","v":""}]
["Data Point 84",{"$f":"IF(OR(C89=\"\",D89=\"\"),\"\",(C89^'Obtain constants'!$C$31)*(D89^'Obtain constants'!$C$32)*('Obtain constants'!$C$30))","v":""}]
["Data Point 85",{"$f":"IF(OR(C90=\"\",D90=\"\"),\"\",(C90^'Obtain constants'!$C$31)*(D90^'Obtain constants'!$C$32)*('Obtain constants'!$C$30))","v":""}]
["Data Point 86",{"$f":"IF(OR(C91=\"\",D91=\"\"),\"\",(C91^'Obtain constants'!$C$31)*(D91^'Obtain constants'!$C$32)*('Obtain constants'!$C$30))","v":""}]
["Data Point 87",{"$f":"IF(OR(C92=\"\",D92=\"\"),\"\",(C92^'Obtain constants'!$C$31)*(D92^'Obtain constants'!$C$32)*('Obtain constants'!$C$30))","v":""}]
["Data Point 88",{"$f":"IF(OR(C93=\"\",D93=\"\"),\"\",(C93^'Obtain constants'!$C$31)*(D93^'Obtain constants'!$C$32)*('Obtain constants'!$C$30))","v":""}]
["Data Point 89",{"$f":"IF(OR(C94=\"\",D94=\"\"),\"\",(C94^'Obtain constants'!$C$31)*(D94^'Obtain constants'!$C$32)*('Obtain constants'!$C$30))","v":""}]
["Data Point 90",{"$f":"IF(OR(C95=\"\",D95=\"\"),\"\",(C95^'Obtain constants'!$C$31)*(D95^'Obtain constants'!$C$32)*('Obtain constants'!$C$30))","v":""}]
["Data Point 91",{"$f":"IF(OR(C96=\"\",D96=\"\"),\"\",(C96^'Obtain constants'!$C$31)*(D96^'Obtain constants'!$C$32)*('Obtain constants'!$C$30))","v":""}]
["Data Point 92",{"$f":"IF(OR(C97=\"\",D97=\"\"),\"\",(C97^'Obtain constants'!$C$31)*(D97^'Obtain constants'!$C$32)*('Obtain constants'!$C$30))","v":""}]
["Data Point 93",{"$f":"IF(OR(C98=\"\",D98=\"\"),\"\",(C98^'Obtain constants'!$C$31)*(D98^'Obtain constants'!$C$32)*('Obtain constants'!$C$30))","v":""}]
["Data Point 94",{"$f":"IF(OR(C99=\"\",D99=\"\"),\"\",(C99^'Obtain constants'!$C$31)*(D99^'Obtain constants'!$C$32)*('Obtain constants'!$C$30))","v":""}]
["Data Point 95",{"$f":"IF(OR(C100=\"\",D100=\"\"),\"\",(C100^'Obtain constants'!$C$31)*(D100^'Obtain constants'!$C$32)*('Obtain constants'!$C$30))","v":""}]
["Data Point 96",{"$f":"IF(OR(C101=\"\",D101=\"\"),\"\",(C101^'Obtain constants'!$C$31)*(D101^'Obtain constants'!$C$32)*('Obtain constants'!$C$30))","v":""}]
["Data Point 97",{"$f":"IF(OR(C102=\"\",D102=\"\"),\"\",(C102^'Obtain constants'!$C$31)*(D102^'Obtain constants'!$C$32)*('Obtain constants'!$C$30))","v":""}]
["Data Point 98",{"$f":"IF(OR(C103=\"\",D103=\"\"),\"\",(C103^'Obtain constants'!$C$31)*(D103^'Obtain constants'!$C$32)*('Obtain constants'!$C$30))","v":""}]
["Data Point 99",{"$f":"IF(OR(C104=\"\",D104=\"\"),\"\",(C104^'Obtain constants'!$C$31)*(D104^'Obtain constants'!$C$32)*('Obtain constants'!$C$30))","v":""}]
["Data Point 100",{"$f":"IF(OR(C105=\"\",D105=\"\"),\"\",(C105^'Obtain constants'!$C$31)*(D105^'Obtain constants'!$C$32)*('Obtain constants'!$C$30))","v":""}]

{"sheet":"Calculations","index":2,"n_rows":28,"n_cols":15,"rows_kept":28,"cut":false,"hidden":true,"merged":[[4,3,5,3],[4,4,5,4],[4,5,5,5]]}
[]
[]
[]
[]
[null,null,null,"Compressive Strength fck","Pundit Lab+ \nUltrasonic Pulse Velocity (V)","SilverSchmidt  \nQ-Values (S)",null,null,"c(S0","b(V)","a"]
[null,null,null,null,null,null,null,null,{"$f":"LINEST(D6:D7,E6:F7,TRUE,TRUE)","v":{"$error":"#VALUE!"}},{"$error":"#VALUE!"},{"$error":"#VALUE!"},null,"m2","m1","b"]
[null,null,1,{"$f":"LN('Obtain constants'!C7)","v":{"$error":"#NUM!"}},{"$f":"LN('Obtain constants'!D7)","v":{"$error":"#NUM!"}},{"$f":"LN('Obtain constants'!E7)","v":{"$error":"#NUM!"}},null,null,{"$error":"#VALUE!"},{"$error":"#VALUE!"},{"$error":"#VALUE!"},null,"se2","se1","seb"]
[null,null,2,{"$f":"LN('Obtain constants'!C8)","v":{"$error":"#NUM!"}},{"$f":"LN('Obtain constants'!D8)","v":{"$error":"#NUM!"}},{"$f":"LN('Obtain constants'!E8)","v":{"$error":"#NUM!"}},null,null,{"$error":"#VALUE!"},{"$error":"#VALUE!"},{"$error":"#VALUE!"},null,"r2","sey"]
[null,null,3,{"$f":"LN('Obtain constants'!C9)","v":{"$error":"#NUM!"}},{"$f":"LN('Obtain constants'!D9)","v":{"$error":"#NUM!"}},{"$f":"LN('Obtain constants'!E9)","v":{"$error":"#NUM!"}},null,null,{"$error":"#VALUE!"},{"$error":"#VALUE!"},{"$error":"#VALUE!"},null,"f","dt"]
[null,null,4,{"$f":"LN('Obtain constants'!C10)","v":{"$error":"#NUM!"}},{"$f":"LN('Obtain constants'!D10)","v":{"$error":"#NUM!"}},{"$f":"LN('Obtain constants'!E10)","v":{"$error":"#NUM!"}},null,null,{"$error":"#VALUE!"},{"$error":"#VALUE!"},{"$error":"#VALUE!"},null,"ssreg","ssresid"]
[null,null,5,{"$f":"LN('Obtain constants'!C11)","v":{"$error":"#NUM!"}},{"$f":"LN('Obtain constants'!D11)","v":{"$error":"#NUM!"}},{"$f":"LN('Obtain constants'!E11)","v":{"$error":"#NUM!"}}]
[null,null,6,{"$f":"LN('Obtain constants'!C12)","v":{"$error":"#NUM!"}},{"$f":"LN('Obtain constants'!D12)","v":{"$error":"#NUM!"}},{"$f":"LN('Obtain constants'!E12)","v":{"$error":"#NUM!"}}]
[null,null,7,{"$f":"LN('Obtain constants'!C13)","v":{"$error":"#NUM!"}},{"$f":"LN('Obtain constants'!D13)","v":{"$error":"#NUM!"}},{"$f":"LN('Obtain constants'!E13)","v":{"$error":"#NUM!"}}]
[null,null,8,{"$f":"LN('Obtain constants'!C14)","v":{"$error":"#NUM!"}},{"$f":"LN('Obtain constants'!D14)","v":{"$error":"#NUM!"}},{"$f":"LN('Obtain constants'!E14)","v":{"$error":"#NUM!"}},null,null,{"$f":"LINEST(D7:D28,E7:F28,TRUE,TRUE)","v":{"$error":"#VALUE!"}}]
[null,null,9,{"$f":"LN('Obtain constants'!C15)","v":{"$error":"#NUM!"}},{"$f":"LN('Obtain constants'!D15)","v":{"$error":"#NUM!"}},{"$f":"LN('Obtain constants'!E15)","v":{"$error":"#NUM!"}}]
[null,null,10,{"$f":"LN('Obtain constants'!C16)","v":{"$error":"#NUM!"}},{"$f":"LN('Obtain constants'!D16)","v":{"$error":"#NUM!"}},{"$f":"LN('Obtain constants'!E16)","v":{"$error":"#NUM!"}}]
[null,null,11,{"$f":"LN('Obtain constants'!C17)","v":{"$error":"#NUM!"}},{"$f":"LN('Obtain constants'!D17)","v":{"$error":"#NUM!"}},{"$f":"LN('Obtain constants'!E17)","v":{"$error":"#NUM!"}}]
[null,null,12,{"$f":"LN('Obtain constants'!C18)","v":{"$error":"#NUM!"}},{"$f":"LN('Obtain constants'!D18)","v":{"$error":"#NUM!"}},{"$f":"LN('Obtain constants'!E18)","v":{"$error":"#NUM!"}}]
[null,null,13,{"$f":"LN('Obtain constants'!C19)","v":{"$error":"#NUM!"}},{"$f":"LN('Obtain constants'!D19)","v":{"$error":"#NUM!"}},{"$f":"LN('Obtain constants'!E19)","v":{"$error":"#NUM!"}}]
[null,null,14,{"$f":"LN('Obtain constants'!C20)","v":{"$error":"#NUM!"}},{"$f":"LN('Obtain constants'!D20)","v":{"$error":"#NUM!"}},{"$f":"LN('Obtain constants'!E20)","v":{"$error":"#NUM!"}}]
[null,null,15,{"$f":"LN('Obtain constants'!C21)","v":{"$error":"#NUM!"}},{"$f":"LN('Obtain constants'!D21)","v":{"$error":"#NUM!"}},{"$f":"LN('Obtain constants'!E21)","v":{"$error":"#NUM!"}}]
[null,null,16,{"$f":"LN('Obtain constants'!C22)","v":{"$error":"#NUM!"}},{"$f":"LN('Obtain constants'!D22)","v":{"$error":"#NUM!"}},{"$f":"LN('Obtain constants'!E22)","v":{"$error":"#NUM!"}}]
[null,null,17,{"$f":"LN('Obtain constants'!C23)","v":{"$error":"#NUM!"}},{"$f":"LN('Obtain constants'!D23)","v":{"$error":"#NUM!"}},{"$f":"LN('Obtain constants'!E23)","v":{"$error":"#NUM!"}}]
[null,null,18,{"$f":"LN('Obtain constants'!C24)","v":{"$error":"#NUM!"}},{"$f":"LN('Obtain constants'!D24)","v":{"$error":"#NUM!"}},{"$f":"LN('Obtain constants'!E24)","v":{"$error":"#NUM!"}}]
[null,null,19,{"$f":"LN('Obtain constants'!C25)","v":{"$error":"#NUM!"}},{"$f":"LN('Obtain constants'!D25)","v":{"$error":"#NUM!"}},{"$f":"LN('Obtain constants'!E25)","v":{"$error":"#NUM!"}}]
[null,null,20,{"$f":"LN('Obtain constants'!C26)","v":{"$error":"#NUM!"}},{"$f":"LN('Obtain constants'!D26)","v":{"$error":"#NUM!"}},{"$f":"LN('Obtain constants'!E26)","v":{"$error":"#NUM!"}}]
[null,null,null,{"$f":"LN('Obtain constants'!C27)","v":{"$error":"#NUM!"}},{"$f":"LN('Obtain constants'!D27)","v":{"$error":"#NUM!"}},{"$f":"LN('Obtain constants'!E27)","v":{"$error":"#NUM!"}}]
[null,null,null,{"$f":"COUNT(D7:D26)","v":0},{"$f":"LN('Obtain constants'!D28)","v":{"$error":"#NUM!"}},{"$f":"LN('Obtain constants'!E28)","v":{"$error":"#NUM!"}}]